BEGIN:VCALENDAR
VERSION:2.0
PRODID:-//ACFA régionale de Lethbridge - ECPv6.15.17//NONSGML v1.0//EN
CALSCALE:GREGORIAN
METHOD:PUBLISH
X-ORIGINAL-URL:https://lethbridge.acfa.ab.ca
X-WR-CALDESC:Évènements pour ACFA régionale de Lethbridge
REFRESH-INTERVAL;VALUE=DURATION:PT1H
X-Robots-Tag:noindex
X-PUBLISHED-TTL:PT1H
BEGIN:VTIMEZONE
TZID:America/Edmonton
BEGIN:DAYLIGHT
TZOFFSETFROM:-0700
TZOFFSETTO:-0600
TZNAME:MDT
DTSTART:20210314T090000
END:DAYLIGHT
BEGIN:STANDARD
TZOFFSETFROM:-0600
TZOFFSETTO:-0700
TZNAME:MST
DTSTART:20211107T080000
END:STANDARD
BEGIN:DAYLIGHT
TZOFFSETFROM:-0700
TZOFFSETTO:-0600
TZNAME:MDT
DTSTART:20220313T090000
END:DAYLIGHT
BEGIN:STANDARD
TZOFFSETFROM:-0600
TZOFFSETTO:-0700
TZNAME:MST
DTSTART:20221106T080000
END:STANDARD
BEGIN:DAYLIGHT
TZOFFSETFROM:-0700
TZOFFSETTO:-0600
TZNAME:MDT
DTSTART:20230312T090000
END:DAYLIGHT
BEGIN:STANDARD
TZOFFSETFROM:-0600
TZOFFSETTO:-0700
TZNAME:MST
DTSTART:20231105T080000
END:STANDARD
END:VTIMEZONE
BEGIN:VEVENT
DTSTART;TZID=America/Edmonton:20221210T120000
DTEND;TZID=America/Edmonton:20221215T203000
DTSTAMP:20260421T174654
CREATED:20221201T205323Z
LAST-MODIFIED:20221202T172523Z
UID:2137-1670673600-1671136200@lethbridge.acfa.ab.ca
SUMMARY:Festival du livre
DESCRIPTION:L’école La Vérendrye tiendra pour la première fois un festival du livre. \nSi vous ne pouvez pas venir sur place\, vous pouvez toujours faire vos achats en ligne du 10 au 14 décembre au lien suivant : \nVirtual bookfair – Salon du livre virtuel \nNe manquez pas l’occasion de vous procurer des livres en français et d’aider l’école!!
URL:https://lethbridge.acfa.ab.ca/events/festival-du-livre/
LOCATION:La Cité des Prairies\, 2104 6 Ave S\, Lethbridge\, Alberta\, T1J 1C1\, Canada
CATEGORIES:Arts et Culture
ATTACH;FMTTYPE=image/png:https://lethbridge.acfa.ab.ca/wp-content/uploads/2022/12/Festivale-du-livre.png
ORGANIZER;CN="%C3%89cole La V%C3%A9rendrye":MAILTO:laverendrye@francosud.ca
END:VEVENT
END:VCALENDAR